BEGIN:VCALENDAR
VERSION:2.0
PRODID:-//ChurchDev//Events//EN
CALSCALE:GREGORIAN
METHOD:PUBLISH
BEGIN:VEVENT
UID:3429-20190422@www.nhmbcps.org
SUMMARY:First Lady Steed’s Birthday
DTSTART;VALUE=DATE:20190422
DTEND;VALUE=DATE:20190423
DESCRIPTION:https://www.nhmbcps.org/events/first-lady-steeds-birthday/
LOCATION:4192 Brownsville Road\, Powder Springs\, GA 30127
URL:https://www.nhmbcps.org/events/first-lady-steeds-birthday/
DTSTAMP:20260419T230105Z
END:VEVENT
END:VCALENDAR
